BEGIN:VCALENDAR
VERSION:2.0
METHOD:PUBLISH
BEGIN:VEVENT
DTSTART:20250401T130000
DTEND:20250401T140000
LOCATION:Kielecki Park Technologiczny, Skye INC., Sala -1.28 Ul. Olszewskiego 6, Budynek Skye Inc.  Kielce
TRANSP: OPAQUE
SEQUENCE:0
UID:
DTSTAMP:20260420T103531Z
SUMMARY:Warsztaty: jak otwarte modele językowe zagrażają cyberbezpieczeństwu
DESCRIPTION:Nie daj się złamać - CYBERBEZPIECZEŃSTWO - Kieleckie Dni Informatyki 2025Już 1-2 kwietnia 2025 Kielce ponownie staną się centrum świata IT! Kieleckie Dni Informatyki to wyjątkowa......
URL:https://app.evenea.pl/event/warsztaty-ai/
PRIORITY:1
CLASS:PUBLIC
END:VEVENT
END:VCALENDAR
