BEGIN:VCALENDAR
VERSION:2.0
METHOD:PUBLISH
BEGIN:VEVENT
DTSTART:20230616T100000
DTEND:20230617T140000
LOCATION:Centrum Konferencyjno - Szkoleniowe Boss Sp. z o. o. ul. Żwanowiecka 20  00- 807 Warszawa
TRANSP: OPAQUE
SEQUENCE:0
UID:
DTSTAMP:20260423T112740Z
SUMMARY:Zwyczajne Walne Zgromadzenie PIFS 2023 i XXII Warsztaty PIFS
DESCRIPTION:\n\n	Zapraszamy przedstawicieli wszystkich firm członkowskich naW tym roku zapraszamy Państwa na dni 16 czerwca 2023 r. na godz. 10:00 i 17 czerwca 2023 r. na godz. 09:00.Wydarzenie zostanie......
URL:https://app.evenea.pl/event/warsztaty-i-walne-pifs-2023/
PRIORITY:1
CLASS:PUBLIC
END:VEVENT
END:VCALENDAR
