BEGIN:VCALENDAR
VERSION:2.0
METHOD:PUBLISH
BEGIN:VEVENT
DTSTART:20211002T110000
DTEND:20211002T110000
LOCATION:filia nr 7 pl. Matki Teresy z Kalkuty 8  Szczecin
TRANSP: OPAQUE
SEQUENCE:0
UID:
DTSTAMP:20260421T133016Z
SUMMARY:Warsztaty z Robertem Małeckim
DESCRIPTION:Zapraszamy na warsztaty pisarskie z Robertem Małeckim, które odbędą się 2 października o godz. 11.00 w filii nr 7 MBP w Szczecinie (pl. Matki Teresy z Kalkuty 8).Uczestnicy dowiedzą się w......
URL:https://app.evenea.pl/event/warsztaty-malecki/
PRIORITY:1
CLASS:PUBLIC
END:VEVENT
END:VCALENDAR
