BEGIN:VCALENDAR
VERSION:2.0
METHOD:PUBLISH
BEGIN:VEVENT
DTSTART:20210617T170000
DTEND:20210617T170000
LOCATION:Filia nr 7 Miejskiej Bibliotek Publicznej w Szczecinie plac Matki Teresy z Kalkuty 8  Szczecin
TRANSP: OPAQUE
SEQUENCE:0
UID:
DTSTAMP:20260419T190444Z
SUMMARY:Rysunek z pamięci. Warsztaty z Weroniką Fibich
DESCRIPTION:17 czerwca (środa) o godz. 17.00 zapraszamy na warsztaty międzypokoleniowe łączące młodzież i seniorów do filii nr 7 (pl. Matki Teresy z Kalkuty 8). Zajęcia poprowadzi Weronika Fibich. Na......
URL:https://app.evenea.pl/event/warsztaty-rysunek-z-pamieci/
PRIORITY:1
CLASS:PUBLIC
END:VEVENT
END:VCALENDAR
