BEGIN:VCALENDAR
VERSION:2.0
METHOD:PUBLISH
BEGIN:VEVENT
DTSTART:20240311T130000
DTEND:20240311T170000
LOCATION:Centrum Rozwoju Talentów Grunwaldzka 472d  Gdańsk
TRANSP: OPAQUE
SEQUENCE:0
UID:
DTSTAMP:20260419T231420Z
SUMMARY:Warsztaty: Zdrowe odżywianie w głowie i na talerzu
DESCRIPTION:Nasze zdrowie i dobre samopoczucie zaczyna się w głowie. Prawidłowe odżywianie to nie tylko kwestia tego, co ląduje na naszym żołądku, ale również tego, jak myślimy o jedzeniu i jakie......
URL:https://app.evenea.pl/event/warsztaty-zdrowe-odzywianie/
PRIORITY:1
CLASS:PUBLIC
END:VEVENT
END:VCALENDAR
