BEGIN:VCALENDAR
VERSION:2.0
METHOD:PUBLISH
BEGIN:VEVENT
DTSTART:20240926T150000
DTEND:20240926T170000
LOCATION:Centrum Edukacji i Wsparcia os. Górali 24  Kraków
TRANSP: OPAQUE
SEQUENCE:0
UID:
DTSTAMP:20260423T052624Z
SUMMARY:Konturowanie twarzy krok po kroku - porady dla początkujących | Face contouring step by step - tips for beginners  | Покрокове контурування обличчя - поради для початківців
DESCRIPTION:DLA KOGO: wszyscyPLKonturowanie to technika w makijażu, która polega na uzyskaniu pożądanego kształtu przy pomocy gry światła i cienia. Prowadzi Maryna Bondarenko - wizażystka.ENGContouring......
URL:https://app.evenea.pl/event/warsztatybeauty2609/
PRIORITY:1
CLASS:PUBLIC
END:VEVENT
END:VCALENDAR
