BEGIN:VCALENDAR
VERSION:2.0
METHOD:PUBLISH
BEGIN:VEVENT
DTSTART:20221011T143000
DTEND:20221011T160000
LOCATION:inQUBE ul. Wielka 67   
TRANSP: OPAQUE
SEQUENCE:0
UID:
DTSTAMP:20260420T100017Z
SUMMARY:Canva - warsztaty tworzenia darmowych grafik
DESCRIPTION:Klient kupuje oczami... Jak często spotkaliśmy się z tymi słowami? Estetyka jak nigdy dotąd odgrywa kluczową rolę niemal w każdym elemencie tworzącym markę osobistą lub korporacyjną. Co......
URL:https://app.evenea.pl/event/warsztatycanva/
PRIORITY:1
CLASS:PUBLIC
END:VEVENT
END:VCALENDAR
