BEGIN:VCALENDAR
VERSION:2.0
METHOD:PUBLISH
BEGIN:VEVENT
DTSTART:20260516T200000
DTEND:20260516T210000
LOCATION:Stowarzyszenie KLANZA Oddział Białostocki Witosa 15B, lok.12 (II piętro)  Białystok
TRANSP: OPAQUE
SEQUENCE:0
UID:
DTSTAMP:20260421T143515Z
SUMMARY:Warsztaty entomologiczne z Narwiańskim Parkiem Narodowym (20:00)  | Noc Muzeów w KLANZIE
DESCRIPTION:Warsztay entomologiczne z Narwiańskim Parkiem NarodowymRzeka, która się rozgałęzia. Motyle, które przechodzą przemianę. I świat, który można zobaczyć z bliska. "Rzeka anastomozująca i......
URL:https://app.evenea.pl/event/warsztatyentomologicznekolejnaodslona/
PRIORITY:1
CLASS:PUBLIC
END:VEVENT
END:VCALENDAR
