BEGIN:VCALENDAR
VERSION:2.0
METHOD:PUBLISH
BEGIN:VEVENT
DTSTART:20230218T110000
DTEND:20230218T130000
LOCATION:Hale Targowe, podziemie pod Halą Płaską - alejka Halo Kultura, box. 320 Wójta Radtkego 36  Gdynia
TRANSP: OPAQUE
SEQUENCE:0
UID:
DTSTAMP:20260421T031757Z
SUMMARY:Dzień Kreatywny Hal Targowych w Gdyni// Warsztaty Fartuszki D.I.Y //18 lutego
DESCRIPTION:Zapraszamy na warsztaty tworzenia fartuszków z Olgą Obst w ramach Dnia Kreatywnego Hal Targowych w Gdyni!Czas: 18 lutego 2023; 11.00- 13.00Start: podziemie pod Halą Płaską - alejka Halo......
URL:https://app.evenea.pl/event/warsztatyfartuszki/
PRIORITY:1
CLASS:PUBLIC
END:VEVENT
END:VCALENDAR
