BEGIN:VCALENDAR
VERSION:2.0
METHOD:PUBLISH
BEGIN:VEVENT
DTSTART:20221129T143000
DTEND:20221129T160000
LOCATION:inQUBE ul. Wielka 67   
TRANSP: OPAQUE
SEQUENCE:0
UID:
DTSTAMP:20260425T195612Z
SUMMARY:Budowanie marki na Instagramie - warsztaty
DESCRIPTION:Jak przez Instagram budować markę? Gdzie szukać inspiracji i jak prowadzić konto, na którym będzie przybywać odbiorców? Czy IG to przywilej, a może konieczność przy budowaniu......
URL:https://app.evenea.pl/event/warsztatyinstagram/
PRIORITY:1
CLASS:PUBLIC
END:VEVENT
END:VCALENDAR
