BEGIN:VCALENDAR
VERSION:2.0
METHOD:PUBLISH
BEGIN:VEVENT
DTSTART:20240316T100000
DTEND:20240316T120000
LOCATION:Miejsce Otwarte. Centrum Integracji Międzykulturowej. Kraków os. Górali 24  Kraków
TRANSP: OPAQUE
SEQUENCE:0
UID:
DTSTAMP:20260423T050438Z
SUMMARY:Warsztaty kulinarne dla nastolatków | Cooking workshop for teenagers | Кулінарний майстер-клас для підлітків
DESCRIPTION:Grupa wiekowa: 12-18 lat Język prowadzenia: ukraiński, polski...
URL:https://app.evenea.pl/event/warsztatykulinarne1603/
PRIORITY:1
CLASS:PUBLIC
END:VEVENT
END:VCALENDAR
