BEGIN:VCALENDAR
VERSION:2.0
METHOD:PUBLISH
BEGIN:VEVENT
DTSTART:20240412T160000
DTEND:20240412T173000
LOCATION:Miejsce Otwarte. Centrum Integracji Międzykulturowej. Kraków os. Górali 24  Kraków
TRANSP: OPAQUE
SEQUENCE:0
UID:
DTSTAMP:20260423T053742Z
SUMMARY:Warsztaty muzyczne, nauka gry na instrumentach muzycznych (10+) | Music workshop, learning to play musical instruments (10+) | Музичний майстер-клас, навчання гри на музичних інструментах (10+)
DESCRIPTION:Grupa wiekowa: 10+Język prowadzenia: ukraiński, polskiPL. Warsztaty muzyczne z Eduardem, nuka gry na instrumentach muzycznych. Eduard Smolyakov - muzyk koncertowy, multiinstrumentalista,......
URL:https://app.evenea.pl/event/warsztatymuzyczne1204/
PRIORITY:1
CLASS:PUBLIC
END:VEVENT
END:VCALENDAR
