BEGIN:VCALENDAR
VERSION:2.0
METHOD:PUBLISH
BEGIN:VEVENT
DTSTART:20230915T143000
DTEND:20230915T160000
LOCATION:FABRYKA LLOYDA FORODŃSKA 156  BYDGOSZCZ
TRANSP: OPAQUE
SEQUENCE:0
UID:
DTSTAMP:20260423T163536Z
SUMMARY:WARSZTATY FOTOGRAFICZNE Z PRZEMKIEM JAKUBCZYKIEM OMSYSTEM
DESCRIPTION:Podróżowanie jest jedną z najważniejszych części życia wielu z nas, a podróżowanie i świadome rejestrowanie tych podróży na zdjęciach to wisienką na torcie. Bo cóż może być......
URL:https://app.evenea.pl/event/warsztatypodroznicy/
PRIORITY:1
CLASS:PUBLIC
END:VEVENT
END:VCALENDAR
