BEGIN:VCALENDAR
VERSION:2.0
METHOD:PUBLISH
BEGIN:VEVENT
DTSTART:20240924T160000
DTEND:20240924T160000
LOCATION:Książnica Pomorska Podgórna 15/16  Szczecin
TRANSP: OPAQUE
SEQUENCE:0
UID:
DTSTAMP:20260424T081319Z
SUMMARY:Warsztaty motywacyjne: Zaprojektuj swoje życie
DESCRIPTION:Każdy z nas ma ogromny wpływ na swoje życie. Możesz żyć według tego, czego inni od Ciebie oczekują lub potrzebują, ale wtedy spełniasz ich marzenia. W ten sposób dopasowujesz się do......
URL:https://app.evenea.pl/event/warsztatyrozwojowe7/
PRIORITY:1
CLASS:PUBLIC
END:VEVENT
END:VCALENDAR
