BEGIN:VCALENDAR
VERSION:2.0
METHOD:PUBLISH
BEGIN:VEVENT
DTSTART:20240215T164500
DTEND:20240215T181500
LOCATION:Centrum Edukacji i Wsparcia os. Górali 24  Kraków
TRANSP: OPAQUE
SEQUENCE:0
UID:
DTSTAMP:20260423T050516Z
SUMMARY:Krok do przodu! - warsztaty samoakceptacji | Step forward! - self-acceptance workshops | Крок вперед! - Майстерня самоприйняття
DESCRIPTION:Grupa wiekowa: dla kobietJęzyk prowadzenia: polskiPL |Jeśli czekasz na znak, żeby wprowadzić zmiany w swoim życiu i zrobić krok do przodu, to trafienie na info o naszych warsztatach jest......
URL:https://app.evenea.pl/event/warsztatysamoakceptacja1502/
PRIORITY:1
CLASS:PUBLIC
END:VEVENT
END:VCALENDAR
