BEGIN:VCALENDAR
VERSION:2.0
METHOD:PUBLISH
BEGIN:VEVENT
DTSTART:20221126T100000
DTEND:20221126T123000
LOCATION:Miejskie Hale Targowe w Gdyni podziemie pod Halą Płaską, pracownia Sita Suzito (alejka Halo Kultura)-  box 511 i 512 Wójta Radtkego 36  Gdynia
TRANSP: OPAQUE
SEQUENCE:0
UID:
DTSTAMP:20260426T001741Z
SUMMARY:Dzień Kreatywny Hal Targowych w Gdyni// Warsztat sitodruku dla dorosłych//26 listopada
DESCRIPTION:Zapraszamy na warsztaty sitodruku dla dorosłych z Pracownią Sita Suzito w ramach Dnia Kreatywnego Hal Targowych w Gdyni!Czas: 26 listopada 2022; 10.00- 12.30Start: podziemie pod Halą Płaską,......
URL:https://app.evenea.pl/event/warsztatysitodruku/
PRIORITY:1
CLASS:PUBLIC
END:VEVENT
END:VCALENDAR
