BEGIN:VCALENDAR
VERSION:2.0
METHOD:PUBLISH
BEGIN:VEVENT
DTSTART:20200214T120000
DTEND:20200216T180000
LOCATION:Poznań Congress Center Głogowska 14  Poznań
TRANSP: OPAQUE
SEQUENCE:0
UID:
DTSTAMP:20260419T235642Z
SUMMARY:Warsztaty - 8. Festiwal Podróżniczy Śladami Marzeń
DESCRIPTION:Zapraszamy na tegoroczne Warsztaty w ramach 8.Festiwalu Podróżniczego Śladami Marzeń.W tym roku przygotowaliśmy dla Was 23 sesje warsztatów (m.in survival, crowdfunding, warsztaty......
URL:https://app.evenea.pl/event/warsztatysladamimarzen/
PRIORITY:1
CLASS:PUBLIC
END:VEVENT
END:VCALENDAR
