BEGIN:VCALENDAR
VERSION:2.0
METHOD:PUBLISH
BEGIN:VEVENT
DTSTART:20240914T110000
DTEND:20240914T133000
LOCATION:Centrum Edukacji i Wsparcia os. Górali 24  Kraków
TRANSP: OPAQUE
SEQUENCE:0
UID:
DTSTAMP:20260423T052355Z
SUMMARY:Warsztaty śpiewu tradycyjnego - pieśni polskie | Traditional singing workshop - polish songs | Майстер-класи з традиційного співу - Польські пісні
DESCRIPTION:PLPodczas spotkań udamy się w podróże dzwiękowo-wokalne i odwiedzimy różne regiony kulturowe, poznając pieśni, które mieszkańcy tych krajów śpiewali na co dzień. Będzie to okazja,......
URL:https://app.evenea.pl/event/warsztatyspiewu1409/
PRIORITY:1
CLASS:PUBLIC
END:VEVENT
END:VCALENDAR
