BEGIN:VCALENDAR
VERSION:2.0
METHOD:PUBLISH
BEGIN:VEVENT
DTSTART:20241214T110000
DTEND:20241214T133000
LOCATION:Centrum Edukacji i Wsparcia os. Górali 24  Kraków
TRANSP: OPAQUE
SEQUENCE:0
UID:
DTSTAMP:20260422T224219Z
SUMMARY:Warsztaty tradycyjnych kolęd i pieśni noworocznych | Workshop of traditional carols and New Year songs | Майстер-клас з традиційних колядок та новорічних пісень
DESCRIPTION:PLDołącz do nas, by odkryć magię kolęd i pieśni noworocznych, które niosą dobre życzenia i radość z odradzającego się światła po zimowym przesileniu. Podczas warsztatów nauczymy......
URL:https://app.evenea.pl/event/warsztatyspiewu1412/
PRIORITY:1
CLASS:PUBLIC
END:VEVENT
END:VCALENDAR
