BEGIN:VCALENDAR
VERSION:2.0
METHOD:PUBLISH
BEGIN:VEVENT
DTSTART:20241116T110000
DTEND:20241116T133000
LOCATION:Centrum Edukacji i Wsparcia os. Górali 24  Kraków
TRANSP: OPAQUE
SEQUENCE:0
UID:
DTSTAMP:20260423T053731Z
SUMMARY:Warsztaty śpiewu tradycyjnego - piesni bałkańskie | Traditional singing workshop - balkan songs | Майстер-класи з традиційного співу - балканські пісні
DESCRIPTION:PLPodczas spotkań udamy się w podróże dzwiękowo-wokalne i odwiedzimy różne regiony kulturowe, poznając pieśni, które mieszkańcy tych krajów śpiewali na co dzień. Będzie to okazja,......
URL:https://app.evenea.pl/event/warsztatyspiewu1611/
PRIORITY:1
CLASS:PUBLIC
END:VEVENT
END:VCALENDAR
