BEGIN:VCALENDAR
VERSION:2.0
METHOD:PUBLISH
BEGIN:VEVENT
DTSTART:20260414T110000
DTEND:20260414T110000
LOCATION:Inkubator Sąsiedzkiej Energii Dolne Miasto ul. Reduta Wyskok 2  Gdańsk
TRANSP: OPAQUE
SEQUENCE:0
UID:
DTSTAMP:20260423T140508Z
SUMMARY:Warsztaty taneczne : Taniec intuicyjny z elementami latino
DESCRIPTION:Zajęcia łączą swobodny taniec z choreografią inspirowaną wibrującymi rytmami latino. W przyjaznej i pozytywnej atmosferze doświadczymy spontaniczności, ale także relaksu i skupienia.......
URL:https://app.evenea.pl/event/warsztatytaneczne/
PRIORITY:1
CLASS:PUBLIC
END:VEVENT
END:VCALENDAR
