BEGIN:VCALENDAR
VERSION:2.0
METHOD:PUBLISH
BEGIN:VEVENT
DTSTART:20211217T180000
DTEND:20211217T200000
LOCATION:ONLINE   
TRANSP: OPAQUE
SEQUENCE:0
UID:
DTSTAMP:20260423T180654Z
SUMMARY:The Way of Stefan - podstawy zarządzania projektami, ale inaczej
DESCRIPTION:The Way of Stefan - podstawy zarządzania projektami, ale inaczejPoznajcie Stefana.Stefan to całkiem zwykły, przeciętny kierownik projektu. W zasadzie dopiero nim został - wczoraj dyrektor mu......
URL:https://app.evenea.pl/event/wayofstefan/
PRIORITY:1
CLASS:PUBLIC
END:VEVENT
END:VCALENDAR
