BEGIN:VCALENDAR
VERSION:2.0
METHOD:PUBLISH
BEGIN:VEVENT
DTSTART:20220125T193000
DTEND:20220125T210000
LOCATION:ONLINE   
TRANSP: OPAQUE
SEQUENCE:0
UID:
DTSTAMP:20260423T181538Z
SUMMARY:The Way of Stefan - pierwszy przystanek: Karta Projektu
DESCRIPTION:The Way of Stefan - pierwszy przystanek: Karta ProjektStefan już mniej więcej wie, co go czeka w drodze do sukcesu. Chociaż raczej mniej niż więcej… Tym razem przekona się, do czego jest mu......
URL:https://app.evenea.pl/event/wayofstefankartaprojektu/
PRIORITY:1
CLASS:PUBLIC
END:VEVENT
END:VCALENDAR
