BEGIN:VCALENDAR
VERSION:2.0
METHOD:PUBLISH
BEGIN:VEVENT
DTSTART:20220317T193000
DTEND:20220317T210000
LOCATION:ONLINE   
TRANSP: OPAQUE
SEQUENCE:0
UID:
DTSTAMP:20260423T175250Z
SUMMARY:Way of Stefan, way of… psycho!?
DESCRIPTION:The Way of Stefan - trzeci przystanek: The way of... psycho!?Tym razem PM Stefan będzie próbował wspiąć się na piramidę Maslow'a za pomocą drabiny Tuckman'a. Jeśli spadnie, pomoże mu......
URL:https://app.evenea.pl/event/wayofstefanpsycho/
PRIORITY:1
CLASS:PUBLIC
END:VEVENT
END:VCALENDAR
