BEGIN:VCALENDAR
VERSION:2.0
METHOD:PUBLISH
BEGIN:VEVENT
DTSTART:20220413T193000
DTEND:20220413T210000
LOCATION:ONLINE   
TRANSP: OPAQUE
SEQUENCE:0
UID:
DTSTAMP:20260425T134159Z
SUMMARY:Way of Stefan - Jest ryzyko, że się uda!
DESCRIPTION:The Way of Stefan - czwarty przystanek: Jest ryzyko, że się uda!Niepewność to cecha każdego projektu. Zawsze może wydarzyć się coś nieoczekiwanego… Ale, czy naprawdę nie da się z tym......
URL:https://app.evenea.pl/event/wayofstefanrisk/
PRIORITY:1
CLASS:PUBLIC
END:VEVENT
END:VCALENDAR
