BEGIN:VCALENDAR
VERSION:2.0
METHOD:PUBLISH
BEGIN:VEVENT
DTSTART:20201018T120000
DTEND:20201018T180000
LOCATION:Hotel Novotel Powstańców śląskich 7  Wrocław
TRANSP: OPAQUE
SEQUENCE:0
UID:
DTSTAMP:20260424T210605Z
SUMMARY:WARSZTATY BIZNESU  dla "JET " 2020/10
DESCRIPTION:SPECJALNE WYDARZENIE !Zapraszamy na Warsztaty Biznesu JET, które odbędą się 18 Października 2020 we Wrocławiudata: 18 X 2020 ( Niedziela)godz:12:00 - 18:00Miejsce : Wrocław Hotel......
URL:https://app.evenea.pl/event/wb-10/
PRIORITY:1
CLASS:PUBLIC
END:VEVENT
END:VCALENDAR
