BEGIN:VCALENDAR
VERSION:2.0
METHOD:PUBLISH
BEGIN:VEVENT
DTSTART:20221218T150000
DTEND:20221218T150000
LOCATION:   
TRANSP: OPAQUE
SEQUENCE:0
UID:
DTSTAMP:20260422T091102Z
SUMMARY:WIRTUALNY BILET/GŁOSOWANIE - finał Polska Miss / Polska Miss Nastolatek 2022
DESCRIPTION:WIRTUALNY BILETgłosowanie na etapie finału Polska Miss i Polska Miss NastolatekWirtualne bilety dotyczy głosowanie podczas etapu finałowego Polska Miss i Polska Miss Nastolatek 2022, powstały......
URL:https://app.evenea.pl/event/wbpm22/
PRIORITY:1
CLASS:PUBLIC
END:VEVENT
END:VCALENDAR
