BEGIN:VCALENDAR
VERSION:2.0
METHOD:PUBLISH
BEGIN:VEVENT
DTSTART:20240113T200000
DTEND:20240113T200000
LOCATION:Kolonia Aleja Grunwaldzka 51  Gdańsk
TRANSP: OPAQUE
SEQUENCE:0
UID:
DTSTAMP:20260421T135328Z
SUMMARY:_W_CIEMNO_04_
DESCRIPTION:13.01.2024 | G 20:00Żyjemy w momencie w którym ilość i jakość wydarzeń, na które jesteśmy zapraszani, przekroczyła już dawno nasze możliwości uczestnictwa.Wreszcie możemy wybierać w......
URL:https://app.evenea.pl/event/wciemno04/
PRIORITY:1
CLASS:PUBLIC
END:VEVENT
END:VCALENDAR
