BEGIN:VCALENDAR
VERSION:2.0
METHOD:PUBLISH
BEGIN:VEVENT
DTSTART:20200520T120000
DTEND:20200520T133000
LOCATION:link do transmisji zostanie przesłany do uczestników w wiadomości potwierdzającej rejestrację   
TRANSP: OPAQUE
SEQUENCE:0
UID:
DTSTAMP:20260426T032439Z
SUMMARY:Webinar TLA - Reorganizacja przedsiębiorstwa - jakie kroki podjąć by uniknąć upadłości?
DESCRIPTION:Reorganizacja przedsiębiorstwa - jakie kroki podjąć by uniknąć upadłości?Webinarium TLA dla Polskiej Izby Motoryzacji oraz Sektorowej Rady ds. Kompetencji Motoryzacja i......
URL:https://app.evenea.pl/event/webinar-covid19-reorganizacja-przedsiebiorstwa-pim/
PRIORITY:1
CLASS:PUBLIC
END:VEVENT
END:VCALENDAR
