BEGIN:VCALENDAR
VERSION:2.0
METHOD:PUBLISH
BEGIN:VEVENT
DTSTART:20200806T180000
DTEND:20200806T210000
LOCATION:nasz fanpage na Facebooku   
TRANSP: OPAQUE
SEQUENCE:0
UID:
DTSTAMP:20260424T103755Z
SUMMARY:Webinar: Kariera UX i UI Designera
DESCRIPTION:Jak zapewne wiesz, UX i UI to dwie różne sfery projektowania produktów cyfrowych. Jakiś czas temu szczegółowo omawialiśmy różnice, którymi cechują się obie profesje. Porozmawiajmy zatem......
URL:https://app.evenea.pl/event/webinar-kariera-ux-i-ui-designera/
PRIORITY:1
CLASS:PUBLIC
END:VEVENT
END:VCALENDAR
