BEGIN:VCALENDAR
VERSION:2.0
METHOD:PUBLISH
BEGIN:VEVENT
DTSTART:20201008T130000
DTEND:20201008T140000
LOCATION:   
TRANSP: OPAQUE
SEQUENCE:0
UID:
DTSTAMP:20260424T210846Z
SUMMARY:Webinar HRtech Hub: Technologie wspierające edukację pracowników w nowej normalności
DESCRIPTION:Poznaj technologie wspierające edukację pracowników w nowej normalnościUwaga! Webinar został przeniesiony na 8 października, godz. 13:00!W ciągu ostatnich kilku miesięcy wiele firm......
URL:https://app.evenea.pl/event/webinar-technologie-wspierajace-edukacje-pracownikow/
PRIORITY:1
CLASS:PUBLIC
END:VEVENT
END:VCALENDAR
