BEGIN:VCALENDAR
VERSION:2.0
METHOD:PUBLISH
BEGIN:VEVENT
DTSTART:20200903T110000
DTEND:20200903T120000
LOCATION:link do transmisji zostanie przesłany do uczestników w wiadomości potwierdzającej rejestrację   
TRANSP: OPAQUE
SEQUENCE:0
UID:
DTSTAMP:20260423T134817Z
SUMMARY:Webinar TLA - Ulga B+R - dlaczego warto?
DESCRIPTION:Zapraszamy na pierwsze spotkanie z cyklu "Ulga B+R" Temat spotkania: Ulga B+R - dlaczego warto?Zagadnienia, które omówimy podczas webinarium: Jakie korzyści podatkowe wynikają z ulgi B+R? Jakie......
URL:https://app.evenea.pl/event/webinar-ulga-b-r-dlaczego-warto/
PRIORITY:1
CLASS:PUBLIC
END:VEVENT
END:VCALENDAR
