BEGIN:VCALENDAR
VERSION:2.0
METHOD:PUBLISH
BEGIN:VEVENT
DTSTART:20201001T110000
DTEND:20201001T120000
LOCATION:link do transmisji zostanie przesłany do uczestników w wiadomości potwierdzającej rejestrację   
TRANSP: OPAQUE
SEQUENCE:0
UID:
DTSTAMP:20260423T134949Z
SUMMARY:Webinar TLA - Ulga B+R - koszty kwalifikowane
DESCRIPTION:Zapraszamy na drugie spotkanie z cyku "Ulga B+R" Temat spotkania: Ulga B+R - koszty kwalifikowanePodczas webinarium: wskażemy jakie wydatki mogą stanowić koszty kwalifikowane do ulgi,......
URL:https://app.evenea.pl/event/webinar-ulga-b-r-koszty-kwalifikowane/
PRIORITY:1
CLASS:PUBLIC
END:VEVENT
END:VCALENDAR
