BEGIN:VCALENDAR
VERSION:2.0
METHOD:PUBLISH
BEGIN:VEVENT
DTSTART:20190913T100000
DTEND:20190913T110000
LOCATION:Startup Academy   
TRANSP: OPAQUE
SEQUENCE:0
UID:
DTSTAMP:20260422T172235Z
SUMMARY:Webinar - Jak wspierać przedsiębiorczość?
DESCRIPTION:Rozwijasz inicjatywy biznesowe w swoim regionie i chcesz wzbogacić swoją wiedzę o sposoby promocji regionu, poznać najważniejsze narzędzia oraz dobre praktyki wspierania przedsiębiorczości?......
URL:https://app.evenea.pl/event/webinarstartupacademy/
PRIORITY:1
CLASS:PUBLIC
END:VEVENT
END:VCALENDAR
