BEGIN:VCALENDAR
VERSION:2.0
METHOD:PUBLISH
BEGIN:VEVENT
DTSTART:20200221T100000
DTEND:20200221T180000
LOCATION:Biuro - Agencji Reklamy Internetowej - Webmetro Świętojańska 38/13  Gdynia
TRANSP: OPAQUE
SEQUENCE:0
UID:
DTSTAMP:20260421T022059Z
SUMMARY:Jak zdobywać klientów, promować biznes w Internecie i dobierać współpracowników, aby w 2020 roku dynamicznie rozwinąć firmę i zwiększyć przychody
DESCRIPTION:Sprawdź opis wydarzenia: https://www.webmetro.com.pl/warsztat...
URL:https://app.evenea.pl/event/webmetro2020/
PRIORITY:1
CLASS:PUBLIC
END:VEVENT
END:VCALENDAR
