BEGIN:VCALENDAR
VERSION:2.0
METHOD:PUBLISH
BEGIN:VEVENT
DTSTART:20240309T100000
DTEND:20240310T173000
LOCATION:Instytut Psychologii Uniwersytetu Śląskiego w Katowicach Grażyńskiego 53  Katowice
TRANSP: OPAQUE
SEQUENCE:0
UID:
DTSTAMP:20260422T150432Z
SUMMARY:WEEKENDOWE SPOTKANIE Z MINDFULNESS
DESCRIPTION:O kursie:Kurs zawiera wykłady na temat historii i podstawowych założeń podejścia mindfulness, najnowszych badań potwierdzających dobroczynny wpływ uważności oraz uważności w......
URL:https://app.evenea.pl/event/weekend-mindfulness/
PRIORITY:1
CLASS:PUBLIC
END:VEVENT
END:VCALENDAR
