BEGIN:VCALENDAR
VERSION:2.0
METHOD:PUBLISH
BEGIN:VEVENT
DTSTART:20240511T100000
DTEND:20240512T173000
LOCATION:Instytut Psychologii Uniwersytetu Śląskiego w Katowicach Grażyńskiego 53  Katowice
TRANSP: OPAQUE
SEQUENCE:0
UID:
DTSTAMP:20260422T155512Z
SUMMARY:WEEKENDOWY KURS SELF-COMPASSION
DESCRIPTION:O kursie: Self-compassion bywa tłumaczone na język polski jako samowspółczucie lub współczucie dla samego siebie. Bywa często mylone z użalaniem się nad sobą, litowaniem czy nadmiernym......
URL:https://app.evenea.pl/event/weekend-self-copassion/
PRIORITY:1
CLASS:PUBLIC
END:VEVENT
END:VCALENDAR
