BEGIN:VCALENDAR
VERSION:2.0
METHOD:PUBLISH
BEGIN:VEVENT
DTSTART:20210820T204500
DTEND:20210820T220000
LOCATION:Błonia pod stadionem Arena Lublin Stadionowa 1  Lublin
TRANSP: OPAQUE
SEQUENCE:0
UID:
DTSTAMP:20260423T192527Z
SUMMARY:weLAND. PODRÓŻ DO NOWEJ ERY
DESCRIPTION:Fundacja Kupuj Odpowiedzialnie zaprasza na niezwykły spektakl plenerowy weLAND. PODRÓŻ DO NOWEJ ERY. Wyjątkowe artystyczne widowisko ukazuje związki pomiędzy niepohamowaną produkcją i......
URL:https://app.evenea.pl/event/weland20-08/
PRIORITY:1
CLASS:PUBLIC
END:VEVENT
END:VCALENDAR
