BEGIN:VCALENDAR
VERSION:2.0
METHOD:PUBLISH
BEGIN:VEVENT
DTSTART:20240718T140000
DTEND:20240718T140000
LOCATION:Centrum Wielokulturowe w Krakowie Zabłocie 20  Kraków
TRANSP: OPAQUE
SEQUENCE:0
UID:
DTSTAMP:20260423T020823Z
SUMMARY:Wellbeing w rodzimym wydaniu | Wellbeing in a native form |Заходів для родин, присвячених гарному самопочуттю.
DESCRIPTION:PL Wellbeing w rodzimym wydaniu - zajęcia dla wszystkichDołącz do cyklu poświęconego wellbeingu w rodzimym wydaniu. Warsztaty ciałopozytywnej jogi, tworzenia słowiańskich kadzideł oraz......
URL:https://app.evenea.pl/event/wellbeingdlarodzin/
PRIORITY:1
CLASS:PUBLIC
END:VEVENT
END:VCALENDAR
