BEGIN:VCALENDAR
VERSION:2.0
METHOD:PUBLISH
BEGIN:VEVENT
DTSTART:20240720T110000
DTEND:20240720T150000
LOCATION:Wesoła Ul. Kopernika 19 A  Kraków
TRANSP: OPAQUE
SEQUENCE:0
UID:
DTSTAMP:20260423T020528Z
SUMMARY:WESOŁA: Załóżmy razem Ogród Społeczny | Let's start a Community Garden together | Створімо разом Громадський Сад
DESCRIPTION:[PL] [ENG] [UA] PL Rozzieleńmy Wesołą Załóżmy razem Ogród Społeczny Dołącz do miejskich ogrodników i wyczarujmy wspólnie przestrzeń do sadzenia, odpoczynku i spotkań! Fundacja IB......
URL:https://app.evenea.pl/event/wesola/
PRIORITY:1
CLASS:PUBLIC
END:VEVENT
END:VCALENDAR
