BEGIN:VCALENDAR
VERSION:2.0
METHOD:PUBLISH
BEGIN:VEVENT
DTSTART:20250621T100000
DTEND:20250621T120000
LOCATION:Niewidzialny Park   Nowosiółki Dydyńskie
TRANSP: OPAQUE
SEQUENCE:0
UID:
DTSTAMP:20260424T163030Z
SUMMARY:Warsztaty pieśni z Nadsania / LISTA REZERWOWA / Wianki w Turnickim 2025
DESCRIPTION:Warsztaty pieśni z Nadsania!Śpiewaczki z zespołu Krajka poprowadzą warsztaty śpiewu, podczas których będzie można nauczyć się tradycyjnych pieśni z Nadsania. Będzie to okazja do nauki......
URL:https://app.evenea.pl/event/wianki2025piesninadsania/
PRIORITY:1
CLASS:PUBLIC
END:VEVENT
END:VCALENDAR
