BEGIN:VCALENDAR
VERSION:2.0
METHOD:PUBLISH
BEGIN:VEVENT
DTSTART:20230716T180000
DTEND:20230716T200000
LOCATION:Widoki Litewska 20/69  Kraków
TRANSP: OPAQUE
SEQUENCE:0
UID:
DTSTAMP:20260425T140725Z
SUMMARY:Widoki | Yoga | Niedzielny warsztat jogi
DESCRIPTION:To będzie letni, przyjemny wieczór kiedy znowu spotkamy się w Widokach, aby w skupieniu praktykować jogę. Zajęcia poprowadzi Aleksandra Terczyńska - @forma_jogi - certyfikowana nauczycielka......
URL:https://app.evenea.pl/event/widokinajogekopia1/
PRIORITY:1
CLASS:PUBLIC
END:VEVENT
END:VCALENDAR
