BEGIN:VCALENDAR
VERSION:2.0
METHOD:PUBLISH
BEGIN:VEVENT
DTSTART:20230820T160000
DTEND:20230820T180000
LOCATION:Widoki Litewska 20/69  Kraków
TRANSP: OPAQUE
SEQUENCE:0
UID:
DTSTAMP:20260425T141128Z
SUMMARY:Widoki | Yoga | Niedzielny warsztat jogi
DESCRIPTION:To będzie letni, przyjemne popołudnie kiedy znowu spotkamy się w Widokach, aby w skupieniu praktykować jogę. Zajęcia poprowadzi Aleksandra Terczyńska - @forma_jogi - certyfikowana......
URL:https://app.evenea.pl/event/widokinajogesierpien/
PRIORITY:1
CLASS:PUBLIC
END:VEVENT
END:VCALENDAR
