BEGIN:VCALENDAR
VERSION:2.0
METHOD:PUBLISH
BEGIN:VEVENT
DTSTART:20231022T180000
DTEND:20231022T200000
LOCATION:WIDOKI Litewska 20/69  Kraków
TRANSP: OPAQUE
SEQUENCE:0
UID:
DTSTAMP:20260425T140634Z
SUMMARY:Widoki X Chvost // niedziela 22.10.2023 godz. 18:00
DESCRIPTION:🎤 🎧 Zapraszamy Was na kolejne wydarzenie muzyczne w WIDOKACH 🎤 🎧18:00 | CHVOST to duet tworzony przez Paulinę Bisztygę pieśniarkę, autorkę tekstów i Pawła Pruskiego - producenta......
URL:https://app.evenea.pl/event/widokixchvost/
PRIORITY:1
CLASS:PUBLIC
END:VEVENT
END:VCALENDAR
