BEGIN:VCALENDAR
VERSION:2.0
METHOD:PUBLISH
BEGIN:VEVENT
DTSTART:20230820T183000
DTEND:20230820T183000
LOCATION:WIDOKI Litewska 20/69  Kraków
TRANSP: OPAQUE
SEQUENCE:0
UID:
DTSTAMP:20260425T140800Z
SUMMARY:WIDOKI X CISZA | Eta Hox & Pruski
DESCRIPTION: Zapraszamy Was na kolejne wydarzenie muzyczne w WIDOKACH Cisza jest cyklem spotkań z ambientem. Możliwością zrelaksowania się przy najspokojniejszych dźwiękach elektroniki i nie tylko.......
URL:https://app.evenea.pl/event/widokixciszasierpien/
PRIORITY:1
CLASS:PUBLIC
END:VEVENT
END:VCALENDAR
