BEGIN:VCALENDAR
VERSION:2.0
METHOD:PUBLISH
BEGIN:VEVENT
DTSTART:20230924T173000
DTEND:20230924T200000
LOCATION:WIDOKI Litewska 20/69  Kraków
TRANSP: OPAQUE
SEQUENCE:0
UID:
DTSTAMP:20260425T140731Z
SUMMARY:Widoki X Etnobotanika // niedziela 24.09.2023 godz. 17:30
DESCRIPTION: Zapraszamy Was na kolejne wydarzenie muzyczne w WIDOKACH 18:00 | ETNOBOTANIKA to tajemniczy duet z Górnego Śląska, który jedną nogą stoi twardo na gruncie muzyki elektronicznej, a drugą......
URL:https://app.evenea.pl/event/widokixetnobotanika/
PRIORITY:1
CLASS:PUBLIC
END:VEVENT
END:VCALENDAR
