BEGIN:VCALENDAR
VERSION:2.0
METHOD:PUBLISH
BEGIN:VEVENT
DTSTART:20240421T190000
DTEND:20240421T210000
LOCATION:WIDOKI Litewska 20/69  Kraków
TRANSP: OPAQUE
SEQUENCE:0
UID:
DTSTAMP:20260425T140726Z
SUMMARY:WIDOKI X NAUTOFON // debiutancki koncert // niedziela 21.04.2024 godz. 19:00
DESCRIPTION:🎤 🎧Zapraszamy Was na kolejne wydarzenie muzyczne w WIDOKACH 🎤 🎧19:00 - NAUTOFONNAUTOFON to kolektyw artystyczny. Wszyscy pochodzą z Rzeszowa, ale tworzą w Krakowie. Połączyli siły,......
URL:https://app.evenea.pl/event/widokixnautofon/
PRIORITY:1
CLASS:PUBLIC
END:VEVENT
END:VCALENDAR
