BEGIN:VCALENDAR
VERSION:2.0
METHOD:PUBLISH
BEGIN:VEVENT
DTSTART:20230728T183000
DTEND:20230729T180000
LOCATION:WIDOKI Litewska 20/69  Kraków
TRANSP: OPAQUE
SEQUENCE:0
UID:
DTSTAMP:20260425T143956Z
SUMMARY:WIDOKI X Nowy Sezon
DESCRIPTION:Piotr Matkowski jest cukiernikiem i twórcą receptur z Wrocławia. Prowadzi @nowysezon - instagramowy profil, gdzie dzieli się umiejętnościami, przepisami, a także promuje polskich twórców.......
URL:https://app.evenea.pl/event/widokixnowysezonlipiec/
PRIORITY:1
CLASS:PUBLIC
END:VEVENT
END:VCALENDAR
