BEGIN:VCALENDAR
VERSION:2.0
METHOD:PUBLISH
BEGIN:VEVENT
DTSTART:20231006T183000
DTEND:20231007T170000
LOCATION:WIDOKI Litewska 20/69  Kraków
TRANSP: OPAQUE
SEQUENCE:0
UID:
DTSTAMP:20260425T140732Z
SUMMARY:Widoki X Nowy Sezon // Warsztat Kulinarny
DESCRIPTION:Piotr Matkowski, twórca receptur i artysta kulinarny z Wrocławia. Prowadzi @nowysezon - instagramowy profil, gdzie dzieli się umiejętnościami, przepisami, a także promuje polskich twórców.......
URL:https://app.evenea.pl/event/widokixnowysezonx/
PRIORITY:1
CLASS:PUBLIC
END:VEVENT
END:VCALENDAR
