BEGIN:VCALENDAR
VERSION:2.0
METHOD:PUBLISH
BEGIN:VEVENT
DTSTART:20230608T180000
DTEND:20230608T210000
LOCATION:WIDOKI Litewska 20/69  Kraków
TRANSP: OPAQUE
SEQUENCE:0
UID:
DTSTAMP:20260425T140634Z
SUMMARY:Widoki x Ciao Boże // czwartek 8.06.2023
DESCRIPTION: Zapraszamy Was na kolejne wydarzenie muzyczne w WIDOKACH 18:15 | Ola Budzyńska - WarszawaOla to wokalistka, multiinstrumentalistka i producentka. Jej muzyka oscyluje wokół szeroko pojętej......
URL:https://app.evenea.pl/event/widokixolaxwilk/
PRIORITY:1
CLASS:PUBLIC
END:VEVENT
END:VCALENDAR
